BEGIN:VCALENDAR
VERSION:2.0
PRODID:-//Wiener Frauen*Spaziergänge - ECPv6.15.17//NONSGML v1.0//EN
CALSCALE:GREGORIAN
METHOD:PUBLISH
X-WR-CALNAME:Wiener Frauen*Spaziergänge
X-ORIGINAL-URL:https://frauenspaziergaenge.at
X-WR-CALDESC:Veranstaltungen für Wiener Frauen*Spaziergänge
REFRESH-INTERVAL;VALUE=DURATION:PT1H
X-Robots-Tag:noindex
X-PUBLISHED-TTL:PT1H
BEGIN:VTIMEZONE
TZID:Europe/Berlin
BEGIN:DAYLIGHT
TZOFFSETFROM:+0100
TZOFFSETTO:+0200
TZNAME:CEST
DTSTART:20250330T010000
END:DAYLIGHT
BEGIN:STANDARD
TZOFFSETFROM:+0200
TZOFFSETTO:+0100
TZNAME:CET
DTSTART:20251026T010000
END:STANDARD
BEGIN:DAYLIGHT
TZOFFSETFROM:+0100
TZOFFSETTO:+0200
TZNAME:CEST
DTSTART:20260329T010000
END:DAYLIGHT
BEGIN:STANDARD
TZOFFSETFROM:+0200
TZOFFSETTO:+0100
TZNAME:CET
DTSTART:20261025T010000
END:STANDARD
BEGIN:DAYLIGHT
TZOFFSETFROM:+0100
TZOFFSETTO:+0200
TZNAME:CEST
DTSTART:20270328T010000
END:DAYLIGHT
BEGIN:STANDARD
TZOFFSETFROM:+0200
TZOFFSETTO:+0100
TZNAME:CET
DTSTART:20271031T010000
END:STANDARD
END:VTIMEZONE
BEGIN:VTIMEZONE
TZID:Europe/Vienna
BEGIN:DAYLIGHT
TZOFFSETFROM:+0100
TZOFFSETTO:+0200
TZNAME:CEST
DTSTART:20250330T010000
END:DAYLIGHT
BEGIN:STANDARD
TZOFFSETFROM:+0200
TZOFFSETTO:+0100
TZNAME:CET
DTSTART:20251026T010000
END:STANDARD
BEGIN:DAYLIGHT
TZOFFSETFROM:+0100
TZOFFSETTO:+0200
TZNAME:CEST
DTSTART:20260329T010000
END:DAYLIGHT
BEGIN:STANDARD
TZOFFSETFROM:+0200
TZOFFSETTO:+0100
TZNAME:CET
DTSTART:20261025T010000
END:STANDARD
BEGIN:DAYLIGHT
TZOFFSETFROM:+0100
TZOFFSETTO:+0200
TZNAME:CEST
DTSTART:20270328T010000
END:DAYLIGHT
BEGIN:STANDARD
TZOFFSETFROM:+0200
TZOFFSETTO:+0100
TZNAME:CET
DTSTART:20271031T010000
END:STANDARD
END:VTIMEZONE
BEGIN:VEVENT
DTSTART;TZID=Europe/Berlin:20260531T110000
DTEND;TZID=Europe/Berlin:20260531T133000
DTSTAMP:20260421T102706
CREATED:20250313T170322Z
LAST-MODIFIED:20260310T200159Z
UID:5795-1780225200-1780234200@frauenspaziergaenge.at
SUMMARY:Lesbisches Wien | Vienna Pride 2026
DESCRIPTION:Lesbisches Wien \nIn Kooperation mit Vienna Pride 2026\n  \nDie erste Regisseurin am Burgtheater\, Angelika Hurwicz\, lebt in einer Frauen*Beziehung. \nGrete von Urbanitzky schreibt einen der ersten Lesbenromane. \nDas Denkmal der Kaiserin Theresia muss mit Blick auf lesbische Geschichte anders gesehen werden. \nAn Smaragda Berg erinnert ein Gemälde in der Sammlung Leopold. \n  \nWo Frauen* lesbisch-queere Geschichte finden können! \n  \nFür eine reibungslose Organisation ist eine Anmeldung erforderlich.\nBitte verwenden Sie das untenstehende Formular: \n\n\n  \n\n\n\nIhr Name*\n \n\n \nIhre E-Mail-Adresse*\n \n\n \nIhre Telefonnummer\n \n\n \nPer­so­nen­zahl\n \n12345\n \nIhre Nachricht\n \n\n \nIch stimme der Datenschutzerklärung zu.*\n \n\n Δ \n\n\n\n 
URL:https://frauenspaziergaenge.at/event/lesbisches-wien-vienna-pride-2026-1-termin/
LOCATION:Burgtheater Haupteingang\, Universitätsring\, Wien\, Wien\, 1010\, Austria
CATEGORIES:1. Bezirk | Innere Stadt,Spaziergänge
ATTACH;FMTTYPE=image/jpeg:https://frauenspaziergaenge.at/wp-content/uploads/sites/9/2025/03/brunnenfiguren_viennapride.jpg
END:VEVENT
BEGIN:VEVENT
DTSTART;TZID=Europe/Vienna:20260608T170000
DTEND;TZID=Europe/Vienna:20260608T193000
DTSTAMP:20260421T102706
CREATED:20260325T165705Z
LAST-MODIFIED:20260325T165705Z
UID:6882-1780938000-1780947000@frauenspaziergaenge.at
SUMMARY:Pionierinnen* in Rudolfsheim-Fünfhaus
DESCRIPTION:Pionierinnen* in Rudolfsheim-Fünfhaus\nWer war Franziska Danneberg-Löw?\nWie hat sich Antonie Platzer für Hausgehilfinnen engagiert?\nWer hat den Mutter-Kind-Pass (Elternpass) damals durchgesetzt?\nWie wohnen Frauen* am besten?\nWelche Ideen hatte dazu Auguste Fickert?\nUnd wer war Lina Proksch?\nDiesen Fragen geht Petra Unger\, Begründerin der Wiener Frauen*Spaziergänge\, in Rudolfsheim-Fünfhaus nach. \nEin spannender Bezirksspaziergang auf den Spuren beeindruckender Frauen*! \nDer Spaziergang ist Dank der Bezirksvertretung Rudolfsheim – Fünfhaus und der MA 53 kostenfrei! \n  \nFür eine reibungslose Organisation ist eine Anmeldung erforderlich.\nBitte verwenden Sie das untenstehende Formular: \n\n\n  \n\n\n\nIhr Name*\n \n\n \nIhre E-Mail-Adresse*\n \n\n \nIhre Telefonnummer\n \n\n \nPer­so­nen­zahl\n \n12345\n \nIhre Nachricht\n \n\n \nIch stimme der Datenschutzerklärung zu.*\n \n\n Δ
URL:https://frauenspaziergaenge.at/event/pionierinnen-in-rudolfsheim-fuenfhaus-2026/
LOCATION:Hackengasse 11\, Hackengasse\, Wien\, Wien\, 1150
CATEGORIES:15. Bezirk | Rudolfsheim-Fünfhaus,Spaziergänge
ATTACH;FMTTYPE=image/jpeg:https://frauenspaziergaenge.at/wp-content/uploads/sites/9/2024/07/cover-rudolfsheim_fünfhaus-tour1_klein.jpg
END:VEVENT
BEGIN:VEVENT
DTSTART;TZID=Europe/Vienna:20260609T170000
DTEND;TZID=Europe/Vienna:20260609T193000
DTSTAMP:20260421T102706
CREATED:20260325T165803Z
LAST-MODIFIED:20260325T165803Z
UID:6892-1781024400-1781033400@frauenspaziergaenge.at
SUMMARY:Frauen*Vielfalt in Rudolfsheim-Fünfhaus
DESCRIPTION:Frauen*Vielfalt in Rudolfsheim-Fünfhaus\nFrauen* haben in Rudolfsheim-Fünfhaus Geschichte geschrieben!\nJüdische Geschichte\, Schulgeschichte\, Adelsgeschichte\, Widerstandsgeschichte und eine Geschichte der Sexarbeit. \nVom „Dreieck meiner Kindheit“ der jüdischen Bevölkerung\nVon der Familie Arnstein und Wanda Lanzer\nVon der Beratungsstelle Sophie!\nVon der Künstlerin Iris Andraschek \nEin spannender Spaziergang durch einen wenig bekannten Teil des Bezirks! \nDer Spaziergang ist Dank der Bezirksvertretung Rudolfsheim – Fünfhaus und der MA 53 kostenfrei! \n  \nFür eine reibungslose Organisation ist eine Anmeldung erforderlich.\nBitte verwenden Sie das untenstehende Formular: \n\n\n  \n\n\n\nIhr Name*\n \n\n \nIhre E-Mail-Adresse*\n \n\n \nIhre Telefonnummer\n \n\n \nPer­so­nen­zahl\n \n12345\n \nIhre Nachricht\n \n\n \nIch stimme der Datenschutzerklärung zu.*\n \n\n Δ
URL:https://frauenspaziergaenge.at/event/frauenvielfalt-in-rudolfsheim-fuenfhaus-2026/
LOCATION:Storchengasse 21-23\, Storchengasse\, Wien\, Wien\, 1150\, Austria
CATEGORIES:15. Bezirk | Rudolfsheim-Fünfhaus,Spaziergänge
ATTACH;FMTTYPE=image/jpeg:https://frauenspaziergaenge.at/wp-content/uploads/sites/9/2017/08/cover-rudolfsheim.jpg
END:VEVENT
BEGIN:VEVENT
DTSTART;TZID=Europe/Berlin:20260610T170000
DTEND;TZID=Europe/Berlin:20260610T193000
DTSTAMP:20260421T102706
CREATED:20260303T143812Z
LAST-MODIFIED:20260310T200313Z
UID:6728-1781110800-1781119800@frauenspaziergaenge.at
SUMMARY:Lesbisches Wien | Vienna Pride 2026 | 2. Termin
DESCRIPTION:Lesbisches Wien \nIn Kooperation mit Vienna Pride 2026\n  \nDie erste Regisseurin am Burgtheater\, Angelika Hurwicz\, lebt in einer Frauen*Beziehung. \nGrete von Urbanitzky schreibt einen der ersten Lesbenromane. \nDas Denkmal der Kaiserin Theresia muss mit Blick auf lesbische Geschichte anders gesehen werden. \nAn Smaragda Berg erinnert ein Gemälde in der Sammlung Leopold. \n  \nWo Frauen* lesbisch-queere Geschichte finden können! \n  \nFür eine reibungslose Organisation ist eine Anmeldung erforderlich.\nBitte verwenden Sie das untenstehende Formular: \n\n\n  \n\n\n\nIhr Name*\n \n\n \nIhre E-Mail-Adresse*\n \n\n \nIhre Telefonnummer\n \n\n \nPer­so­nen­zahl\n \n12345\n \nIhre Nachricht\n \n\n \nIch stimme der Datenschutzerklärung zu.*\n \n\n Δ
URL:https://frauenspaziergaenge.at/event/lesbisches-wien-vienna-pride-2026-2-termin/
LOCATION:Burgtheater Haupteingang\, Universitätsring\, Wien\, Wien\, 1010\, Austria
CATEGORIES:1. Bezirk | Innere Stadt,Spaziergänge
ATTACH;FMTTYPE=image/jpeg:https://frauenspaziergaenge.at/wp-content/uploads/sites/9/2025/03/brunnenfiguren_viennapride.jpg
END:VEVENT
BEGIN:VEVENT
DTSTART;TZID=Europe/Berlin:20260611T170000
DTEND;TZID=Europe/Berlin:20260611T193000
DTSTAMP:20260421T102706
CREATED:20260303T143905Z
LAST-MODIFIED:20260310T200345Z
UID:6730-1781197200-1781206200@frauenspaziergaenge.at
SUMMARY:Lesbisches Wien | Vienna Pride 2026 | 3. Termin
DESCRIPTION:Lesbisches Wien \nIn Kooperation mit Vienna Pride 2026\n  \nDie erste Regisseurin am Burgtheater\, Angelika Hurwicz\, lebt in einer Frauen*Beziehung. \nGrete von Urbanitzky schreibt einen der ersten Lesbenromane. \nDas Denkmal der Kaiserin Theresia muss mit Blick auf lesbische Geschichte anders gesehen werden. \nAn Smaragda Berg erinnert ein Gemälde in der Sammlung Leopold. \n  \nWo Frauen* lesbisch-queere Geschichte finden können! \n  \nFür eine reibungslose Organisation ist eine Anmeldung erforderlich.\nBitte verwenden Sie das untenstehende Formular: \n\n\n  \n\n\n\nIhr Name*\n \n\n \nIhre E-Mail-Adresse*\n \n\n \nIhre Telefonnummer\n \n\n \nPer­so­nen­zahl\n \n12345\n \nIhre Nachricht\n \n\n \nIch stimme der Datenschutzerklärung zu.*\n \n\n Δ \n\n\n\n  \n 
URL:https://frauenspaziergaenge.at/event/lesbisches-wien-vienna-pride-2026-3-termin/
LOCATION:Burgtheater Haupteingang\, Universitätsring\, Wien\, Wien\, 1010\, Austria
CATEGORIES:1. Bezirk | Innere Stadt,Spaziergänge
ATTACH;FMTTYPE=image/jpeg:https://frauenspaziergaenge.at/wp-content/uploads/sites/9/2025/03/brunnenfiguren_viennapride.jpg
END:VEVENT
BEGIN:VEVENT
DTSTART;TZID=Europe/Berlin:20260612T170000
DTEND;TZID=Europe/Berlin:20260612T193000
DTSTAMP:20260421T102706
CREATED:20260303T144127Z
LAST-MODIFIED:20260310T200527Z
UID:5798-1781283600-1781292600@frauenspaziergaenge.at
SUMMARY:Lesbian Vienna | Vienna Pride 2026 | English Tour
DESCRIPTION:Women’s* history in Vienna is also lesbian women’s* history!\nThe search for traces is not always easy.\nLiving in secrecy for a long time has rather blurred than left traces. \nNevertheless they exist! \nPlaces of lesbian encounters\, lesbian love and lesbian lust for life!\nWith and against society.\nIn open struggle or in hidden resistance.\nPlaces of individual biographies\, political places\, meeting places\, places of solidarity. \nAn interesting city walk in cooperation with Viennapride 2026 on the traces of lesbian city history! \nThe participant fee of Euro 28.- per person will be collected in cash on site. \nFor smooth organization\, registration is required. Please use the form below: \n\n\n  \n\n\n\nYour name*\n \n\n \nYour email address*\n \n\n \nYour phone number\n \n\n \nNumber of participants\n \n12345\n \nYour message\n \n\n \nI agree to the Privacy Policy.*\n \n\n Δ
URL:https://frauenspaziergaenge.at/event/lesbian-vienna-vienna-pride-2026-english-tour/
LOCATION:Burgtheater Haupteingang\, Universitätsring\, Wien\, Wien\, 1010\, Austria
CATEGORIES:1. Bezirk | Innere Stadt,Spaziergänge
ATTACH;FMTTYPE=image/jpeg:https://frauenspaziergaenge.at/wp-content/uploads/sites/9/2025/03/brunnenfiguren_viennapride.jpg
END:VEVENT
BEGIN:VEVENT
DTSTART;TZID=Europe/Vienna:20260617T170000
DTEND;TZID=Europe/Vienna:20260617T193000
DTSTAMP:20260421T102706
CREATED:20260303T141336Z
LAST-MODIFIED:20260402T141956Z
UID:6718-1781715600-1781724600@frauenspaziergaenge.at
SUMMARY:Pionierinnen auf der Wieden | Ein neuer Spaziergang! | AUSGEBUCHT!
DESCRIPTION:Pionierinnen* auf der Wieden\nSie werden Erfolgsschriftstellerinnen trotz aller Hindernisse \nSie sind Pionierinnen der Pädagogik und Elternberatung \nSie initiieren eine weltweite Friedensbewegung \nSie erforschen und dokumentieren weibliche Lebenswelten. \n  \nEin neuer Spaziergang folgt den Spuren dieser außergewöhnlichen Frauen*! \n  \nDer neue Spaziergang ist Dank der Gesamtförderung der MA7 kostenfrei!
URL:https://frauenspaziergaenge.at/event/pionierinnen-auf-der-wieden-ein-neuer-spaziergang-2/
LOCATION:Ida Margulies Platz\, Ida Margulies Platz\, Wien\, Wien\, 1040
CATEGORIES:4. Bezirk | Wieden
ATTACH;FMTTYPE=image/jpeg:https://frauenspaziergaenge.at/wp-content/uploads/sites/9/2024/09/Cover-Wieden-neu-2024.jpg
ORGANIZER;CN="Bezirksvertretung Wieden":MAILTO:post@bv04.wien.gv.at
END:VEVENT
BEGIN:VEVENT
DTSTART;TZID=Europe/Vienna:20260912T110000
DTEND;TZID=Europe/Vienna:20260912T133000
DTSTAMP:20260421T102706
CREATED:20260303T142028Z
LAST-MODIFIED:20260408T194758Z
UID:6722-1789210800-1789219800@frauenspaziergaenge.at
SUMMARY:Frauen*Spuren auf der Wieden | AUSGEBUCHT!!
DESCRIPTION:Frauen*Spuren auf der Wieden\nWem ist das Denkmal vor der Paulanerkirche gewidmet? \nWer war Franziska Tausig? \nWie lässt sich Geschichte der Frauen*Bewegungen finden? \nWen hat Lilli Lieser unterstützt? \nWas hat Alma Rosé mit dem vierten Bezirk zu tun? \nUnd wo hat Dorothea Neff gewohnt? \nEin abwechlungsreicher Spaziergang zur Geschichte beeindruckender Frauen*\, die auf der Wieden gelebt und gewirkt haben! \nDer Stadtspaziergang ist Dank der Förderung durch die Bezirksvertretung Wieden kostenfrei! \n  \n 
URL:https://frauenspaziergaenge.at/event/frauenspuren-auf-der-wieden-2/
LOCATION:Irene Harand Platz\, Paulanergasse\, Wien\, Wien\, 1040\, Austria
CATEGORIES:4. Bezirk | Wieden,Spaziergänge
ATTACH;FMTTYPE=image/jpeg:https://frauenspaziergaenge.at/wp-content/uploads/sites/9/2026/03/cover-wieden_tour-1.jpg
END:VEVENT
END:VCALENDAR